BEGIN:VCALENDAR
VERSION:2.0
PRODID:-//Gazette de la Mauricie - ECPv6.15.20//NONSGML v1.0//EN
CALSCALE:GREGORIAN
METHOD:PUBLISH
X-WR-CALNAME:Gazette de la Mauricie
X-ORIGINAL-URL:https://voxgazette.com
X-WR-CALDESC:Évènements pour Gazette de la Mauricie
REFRESH-INTERVAL;VALUE=DURATION:PT1H
X-Robots-Tag:noindex
X-PUBLISHED-TTL:PT1H
BEGIN:VTIMEZONE
TZID:America/Toronto
BEGIN:DAYLIGHT
TZOFFSETFROM:-0500
TZOFFSETTO:-0400
TZNAME:EDT
DTSTART:20250309T070000
END:DAYLIGHT
BEGIN:STANDARD
TZOFFSETFROM:-0400
TZOFFSETTO:-0500
TZNAME:EST
DTSTART:20251102T060000
END:STANDARD
BEGIN:DAYLIGHT
TZOFFSETFROM:-0500
TZOFFSETTO:-0400
TZNAME:EDT
DTSTART:20260308T070000
END:DAYLIGHT
BEGIN:STANDARD
TZOFFSETFROM:-0400
TZOFFSETTO:-0500
TZNAME:EST
DTSTART:20261101T060000
END:STANDARD
BEGIN:DAYLIGHT
TZOFFSETFROM:-0500
TZOFFSETTO:-0400
TZNAME:EDT
DTSTART:20270314T070000
END:DAYLIGHT
BEGIN:STANDARD
TZOFFSETFROM:-0400
TZOFFSETTO:-0500
TZNAME:EST
DTSTART:20271107T060000
END:STANDARD
END:VTIMEZONE
BEGIN:VEVENT
DTSTART;TZID=America/Toronto:20260510T110000
DTEND;TZID=America/Toronto:20260510T150000
DTSTAMP:20260423T143158
CREATED:20260423T135223Z
LAST-MODIFIED:20260423T135223Z
UID:23228-1778410800-1778425200@voxgazette.com
SUMMARY:Brunch de la Fête des Mères à l'Hôtel Montfort
DESCRIPTION:🌷 𝗕𝗥𝗨𝗡𝗖𝗛 𝗙𝗘̂𝗧𝗘 𝗗𝗘𝗦 𝗠𝗘̀𝗥𝗘𝗦 🌷 Pour la fête des mères cette année\, venez célébrer en famille avec nous lors de notre brunch thématique du 10 mai prochain\, dès 11h00\, à l’Hôtel Montfort de Nicolet. Réservez dès maintenant votre place pour souligner cet événement avec nous! 𝗥𝗲́𝘀𝗲𝗿𝘃𝗮𝘁𝗶𝗼𝗻𝘀 : 📞 (819) 293-6262 ext. 4 💻 widgets.libroreserve.com/WEB/QC016529836672/book 🗓️ Le dimanche 10 mai dès 11h00 👩 Adulte : 45$ 👧 Enfant (6-12 ans) : 25$ 👶 Enfant (moins de 6 ans) : Gratuit (Service et taxes en sus) Lors de ce brunch thématique qui se tiendra dans notre grande salle de réception\, les invités seront groupés en table de 6 à 8 personnes : 🌷 Tables privées exclusivement pour les groupes de 6 personnes et plus. 🌷 Tables regroupées pour les groupes de moins de 6 personnes. ————————————– Enr. 243180
URL:https://voxgazette.com/event/brunch-de-la-fete-des-meres-a-lhotel-montfort/
ATTACH;FMTTYPE=image/png:https://voxgazette.com/wp-content/uploads/2026/03/Hotel-Montfort-Facebook-Event-Brunch-Fete-des-Meres-2026.png
END:VEVENT
BEGIN:VEVENT
DTSTART;TZID=America/Toronto:20260515T130000
DTEND;TZID=America/Toronto:20260515T150000
DTSTAMP:20260423T143158
CREATED:20260129T212536Z
LAST-MODIFIED:20260129T212536Z
UID:23148-1778850000-1778857200@voxgazette.com
SUMMARY:Café Philo au Café de l'Hôtel Montfort
DESCRIPTION:Café Philo au Café de l’Hôtel Montfort ☕ Le vendredi 15 mai\, partagez un moment unique où la réflexion se mêle à la convivialité. Guidés par Jean Marcaurelle\, les participants échangent\, questionnent et explorent ensemble les grandes idées. Un espace ouvert au dialogue\, à la curiosité et à la découverte\, autour d’un bon café. Merci de confirmer votre présence : Jean Marcaurelle (animateur) 👉 jmarcaurelle@sogetel.net L’événement est gratuit et ouvert à tous 🤗 Une consommation sur place est suggérée. ————————————– Enr. 243180
URL:https://voxgazette.com/event/cafe-philo-au-cafe-de-lhotel-montfort-3/
ATTACH;FMTTYPE=image/png:https://voxgazette.com/wp-content/uploads/2026/01/Hotel-Montfort-Facebook-Event-Cafe-Philo-2026-05-15.png
END:VEVENT
BEGIN:VEVENT
DTSTART;TZID=America/Toronto:20260528T170000
DTEND;TZID=America/Toronto:20260528T190000
DTSTAMP:20260423T143158
CREATED:20260115T184005Z
LAST-MODIFIED:20260115T184005Z
UID:23083-1779987600-1779994800@voxgazette.com
SUMMARY:Soirée 5à7 Boîtes à Chansons au Café de l'Hôtel Montfort
DESCRIPTION:Ne manquez pas le grand retour des soirées 𝟱𝗮̀𝟳 𝗕𝗼𝗶̂𝘁𝗲𝘀 𝗮̀ 𝗖𝗵𝗮𝗻𝘀𝗼𝗻𝘀 au Café de l’Hôtel Montfort en 2026 ! 🎶 Il s’agit d’un rendez-vous musical à ne pas manquer. 📆 Le jeudi 28 mai (17h00 à 19h00) 🎤 En spectacle avec Gisèle Biron (Voix) Dans une atmosphère chaleureuse et décontractée\, ces soirées mettent la musique à l’honneur. Que ce soit pour découvrir de nouvelles voix\, fredonner des airs connus ou simplement profiter d’un bon moment entre amis\, les 5à7 Boîtes à Chansons promettent une expérience conviviale\, vivante et festive au cœur du Café de l’Hôtel Montfort. Contribution volontaire ————————————– Enr. 243180
URL:https://voxgazette.com/event/soiree-5a7-boites-a-chansons-au-cafe-de-lhotel-montfort-3/
ATTACH;FMTTYPE=image/png:https://voxgazette.com/wp-content/uploads/2026/01/Hotel-Montfort-Facebook-Event-Boites-a-Chansons-2026-05-28.png
END:VEVENT
BEGIN:VEVENT
DTSTART;TZID=America/Toronto:20260612T130000
DTEND;TZID=America/Toronto:20260612T150000
DTSTAMP:20260423T143158
CREATED:20260129T212234Z
LAST-MODIFIED:20260129T212459Z
UID:23150-1781269200-1781276400@voxgazette.com
SUMMARY:Café Philo au Café de l'Hôtel Montfort
DESCRIPTION:Café Philo au Café de l’Hôtel Montfort ☕ Le vendredi 12 juin\, partagez un moment unique où la réflexion se mêle à la convivialité. Guidés par Jean Marcaurelle\, les participants échangent\, questionnent et explorent ensemble les grandes idées. Un espace ouvert au dialogue\, à la curiosité et à la découverte\, autour d’un bon café. Merci de confirmer votre présence : Jean Marcaurelle (animateur) 👉 jmarcaurelle@sogetel.net L’événement est gratuit et ouvert à tous 🤗 Une consommation sur place est suggérée. ————————————– Enr. 243180
URL:https://voxgazette.com/event/cafe-philo-au-cafe-de-lhotel-montfort-2/
ATTACH;FMTTYPE=image/png:https://voxgazette.com/wp-content/uploads/2026/01/Hotel-Montfort-Facebook-Event-Cafe-Philo-2026-06-12.png
END:VEVENT
BEGIN:VEVENT
DTSTART;TZID=America/Toronto:20260625T170000
DTEND;TZID=America/Toronto:20260625T190000
DTSTAMP:20260423T143158
CREATED:20260115T183937Z
LAST-MODIFIED:20260115T183937Z
UID:23085-1782406800-1782414000@voxgazette.com
SUMMARY:Soirée 5à7 Boîtes à Chansons au Café de l'Hôtel Montfort
DESCRIPTION:Ne manquez pas le grand retour des soirées 𝟱𝗮̀𝟳 𝗕𝗼𝗶̂𝘁𝗲𝘀 𝗮̀ 𝗖𝗵𝗮𝗻𝘀𝗼𝗻𝘀 au Café de l’Hôtel Montfort en 2026 ! 🎶\nIl s’agit d’un rendez-vous musical à ne pas manquer. \n📆 Le jeudi 25 juin (17h00 à 19h00)\n🎤 En spectacle avec Chantal Thiboutot et amis (Voix) \nDans une atmosphère chaleureuse et décontractée\, ces soirées mettent la musique à l’honneur. Que ce soit pour découvrir de nouvelles voix\, fredonner des airs connus ou simplement profiter d’un bon moment entre amis\, les 5à7 Boîtes à Chansons promettent une expérience conviviale\, vivante et festive au cœur du Café de l’Hôtel Montfort. \nContribution volontaire\n————————————–\nEnr. 243180
URL:https://voxgazette.com/event/soiree-5a7-boites-a-chansons-au-cafe-de-lhotel-montfort-2/
ATTACH;FMTTYPE=image/png:https://voxgazette.com/wp-content/uploads/2026/01/Hotel-Montfort-Facebook-Event-Boites-a-Chansons-2026-06-25.png
END:VEVENT
END:VCALENDAR