BEGIN:VCALENDAR
VERSION:2.0
PRODID:-//Gazette de la Mauricie - ECPv6.15.20//NONSGML v1.0//EN
CALSCALE:GREGORIAN
METHOD:PUBLISH
X-ORIGINAL-URL:https://voxgazette.com
X-WR-CALDESC:Évènements pour Gazette de la Mauricie
REFRESH-INTERVAL;VALUE=DURATION:PT1H
X-Robots-Tag:noindex
X-PUBLISHED-TTL:PT1H
BEGIN:VTIMEZONE
TZID:America/Toronto
BEGIN:DAYLIGHT
TZOFFSETFROM:-0500
TZOFFSETTO:-0400
TZNAME:EDT
DTSTART:20250309T070000
END:DAYLIGHT
BEGIN:STANDARD
TZOFFSETFROM:-0400
TZOFFSETTO:-0500
TZNAME:EST
DTSTART:20251102T060000
END:STANDARD
BEGIN:DAYLIGHT
TZOFFSETFROM:-0500
TZOFFSETTO:-0400
TZNAME:EDT
DTSTART:20260308T070000
END:DAYLIGHT
BEGIN:STANDARD
TZOFFSETFROM:-0400
TZOFFSETTO:-0500
TZNAME:EST
DTSTART:20261101T060000
END:STANDARD
BEGIN:DAYLIGHT
TZOFFSETFROM:-0500
TZOFFSETTO:-0400
TZNAME:EDT
DTSTART:20270314T070000
END:DAYLIGHT
BEGIN:STANDARD
TZOFFSETFROM:-0400
TZOFFSETTO:-0500
TZNAME:EST
DTSTART:20271107T060000
END:STANDARD
END:VTIMEZONE
BEGIN:VEVENT
DTSTART;TZID=America/Toronto:20260329T120000
DTEND;TZID=America/Toronto:20260517T170000
DTSTAMP:20260423T110850
CREATED:20260324T184854Z
LAST-MODIFIED:20260324T184854Z
UID:23224-1774785600-1779037200@voxgazette.com
SUMMARY:Nourrir la bête ; Biofaunie réinventée - Jean-Pierre Gauthier
DESCRIPTION:Les installations de l’exposition de Jean-Pierre Gauthier conjuguent un travail minutieux de menuiserie\, d’électronique\, d’impression 3D et de programmation audio-numérique. Grâce à l’automatisation des dispositifs et à l’interaction des visiteurs\, les œuvres acquièrent une certaine autonomie. Sur le plan sonore\, elles peuvent générer des formes d’improvisation et de composition imprévisibles. Les œuvres se transforment également dans le temps\, parfois sur de très longues périodes\, comme avec la sculpture Le supplice de la goutte (1998-2026)\, où un vieil ordinateur Macintosh classique\, reproduit en savon\, subit une lente destruction goutte à goutte provoquée par la présence du visiteur. Cette œuvre met en évidence une perte de contrôle sur la finalité et la vitesse de dégradation et de transformation de la matière. Cette perte de contrôle se retrouve dans l’organisation sonore de Nourrir la bête (2025-2026)\, un orchestre automatisé qui se déploie au sol sous la forme d’un réseau d’instruments interconnectés. Pilotée par des algorithmes de composition sans durée déterminée\, l’installation produit des combinaisons sonores et rythmiques imprévisibles\, en constante évolution lorsque le visiteur met l’oeuvre en marche. Les sons générés sont captés\, échantillonnés\, transformés puis rediffusés par quatre haut-parleurs\, dans une spatialisation aléatoire pour chaque source audio\, créant un remixage continu de l’ensemble des sources. Pour faire image Nourrir la bête se cannibalise\, elle se nourrit de ses propres éléments\, les consomme\, les transforme et les rejette métamorphosés dans l’espace sonore. Au grenier\, trois installations sonores interactives investissent l’espace. Appelants (2022-2023) Rappelant (2026) et Électrofaunie (2026). Ensemble\, elles composent un environnement sonore évoquant une biophonie réinventée\, comme si un vieux bricoleur tentait\, dans son grenier\, de reconstruire un monde sonore depuis disparu. L’artiste remercie Eric Matson pour la diffusion radio de son installation Nourrir la bête sur son projet de radio Web — radioblocoral. — www.radioblocoral.ca
URL:https://voxgazette.com/event/nourrir-la-bete-biofaunie-reinventee-jean-pierre-gauthier/
ATTACH;FMTTYPE=image/png:https://voxgazette.com/wp-content/uploads/2026/03/Jean-Pierre.png
END:VEVENT
BEGIN:VEVENT
DTSTART;TZID=America/Toronto:20260405T100000
DTEND;TZID=America/Toronto:20260405T150000
DTSTAMP:20260423T110850
CREATED:20260120T193109Z
LAST-MODIFIED:20260120T193109Z
UID:23124-1775383200-1775401200@voxgazette.com
SUMMARY:Brunch de Pâques à l'Auberge Godefroy
DESCRIPTION:🌸 𝐁𝐑𝐔𝐍𝐂𝐇 𝐃𝐄 𝐏𝐀̂𝐐𝐔𝐄𝐒 🌸 Le 5 avril prochain\, célébrez Pâques en grand avec notre délicieux Brunch à l’Auberge Godefroy! Un festin gourmand vous attend\, mettant en vedette des saveurs printanières et des mets raffinés dans une ambiance conviviale et festive. Achetez vos billets pour cet événement gastronomique dès maintenant pour partager un moment inoubliable en famille ou entre amis. Plusieurs plages horaires disponibles : 🍽 10h00 : Salle Louisbourg (groupes 5 pers. et +) 🍽 10h30 : Salle à manger et Salle Nuit St-Barnabé 🍽 11h00 : Salle Louisbourg (groupes 5 pers. et +) 🍽 11h30 : Salle Louisbourg (groupes 5 pers. et +) 🍽 13h00 : Salle à manger et Salle Nuit St-Barnabé 🐣 𝟓𝟓\,𝟎𝟎 $ 𝐩𝐚𝐫 𝐩𝐞𝐫𝐬. | 𝐒𝐞𝐫𝐯𝐢𝐜𝐞 𝐞𝐭 𝐭𝐚𝐱𝐞𝐬 𝐞𝐧 𝐬𝐮𝐬. 🎟️ 𝐌𝐄𝐍𝐔 𝐄𝐓 𝐀𝐂𝐇𝐀𝐓 𝐃𝐄 𝐁𝐈𝐋𝐋𝐄𝐓𝐒 : https://www.aubergegodefroy.com/fr/forfaits/evenements-gastronomiques/ Au plaisir de vous recevoir ! ————————————– Enr. 039616
URL:https://voxgazette.com/event/brunch-de-paques-a-lauberge-godefroy-2/
ATTACH;FMTTYPE=image/png:https://voxgazette.com/wp-content/uploads/2026/01/Auberge-Godefroy-Facebook-Event-Brunch-de-Paques-2026.png
END:VEVENT
BEGIN:VEVENT
DTSTART;TZID=America/Toronto:20260405T110000
DTEND;TZID=America/Toronto:20260405T150000
DTSTAMP:20260423T110850
CREATED:20260306T175905Z
LAST-MODIFIED:20260306T175905Z
UID:23175-1775386800-1775401200@voxgazette.com
SUMMARY:Brunch de Pâques à l'Hôtel Montfort
DESCRIPTION:🐰 𝗕𝗥𝗨𝗡𝗖𝗛 𝗗𝗘 𝗣𝗔̂𝗤𝗨𝗘𝗦 𝗔̀ 𝗟’𝗛𝗢̂𝗧𝗘𝗟 𝗠𝗢𝗡𝗧𝗙𝗢𝗥𝗧 🐰 Le dimanche 5 avril\, célébrez Pâques en saveurs à l’Hôtel Montfort! Joignez-vous à nous pour un brunch festif où gourmandise et convivialité se rencontrent. Découvrez un menu thématique inspiré des délices printaniers\, parfait pour partager un moment mémorable en famille ou entre amis. Réservez dès maintenant votre place pour souligner cet événement avec nous! 𝗥𝗲́𝘀𝗲𝗿𝘃𝗮𝘁𝗶𝗼𝗻𝘀 : 📞 (819) 293-6262 ext. 4 📅 Le dimanche 5 avril à 11h00 🥞 𝗠𝗲𝗻𝘂 : hotelmontfort.ca/public_upload/files/Paques.pdf 👩 Adulte : 45$ 👧 Enfant (6-12 ans) : 25$ 👶 Enfant (moins de 6 ans) : Gratuit (Service et taxes en sus) Lors de ce brunch thématique qui se tiendra dans notre grande salle de réception\, les invités seront groupés en table de 6 à 8 personnes : 🐣 Tables privées exclusivement pour les groupes de 6 personnes et plus. 🐣 Tables regroupées pour les groupes de moins de 6 personnes.
URL:https://voxgazette.com/event/brunch-de-paques-a-lhotel-montfort-2/
ATTACH;FMTTYPE=image/png:https://voxgazette.com/wp-content/uploads/2026/02/Hotel-Montfort-Facebook-Event-Brunch-Paques-5-avril-2026.png
END:VEVENT
END:VCALENDAR